BEGIN:VCALENDAR
VERSION:2.0
PRODID:-//Squarespace Inc/Squarespace 6//v6//EN
BEGIN:VEVENT
UID:60276b4a68e6d46072a81e20@squarespace.com
DTSTAMP:20210213T061052Z
DTSTART:20210714T073000Z
DTEND:20210810T083000Z
SUMMARY:Tour to Darwin
END:VEVENT
END:VCALENDAR
