BEGIN:VCALENDAR
VERSION:2.0
PRODID:-//Squarespace Inc/Squarespace 6//v6//EN
BEGIN:VEVENT
UID:5c68f777085229f2876ad50a@squarespace.com
DTSTAMP:20190708T123129Z
DTSTART:20200202T010000Z
DTEND:20200224T070000Z
SUMMARY:Burt Munro Challenge - 2020
END:VEVENT
END:VCALENDAR
