BEGIN:VCALENDAR
VERSION:2.0
PRODID:-//Squarespace Inc/Squarespace 6//v6//EN
BEGIN:VEVENT
UID:593277066b8f5b251c7ebb56@squarespace.com
DTSTAMP:20170812T130429Z
DTSTART:20180723T160000Z
DTEND:20180815T160000Z
SUMMARY:Route 66 Sturgis - 2018
END:VEVENT
END:VCALENDAR
