BEGIN:VCALENDAR
VERSION:2.0
PRODID:-//Squarespace Inc/Squarespace 6//v6//EN
BEGIN:VEVENT
UID:593276d1d1758e4e416dcf2a@squarespace.com
DTSTAMP:20170812T130357Z
DTSTART:20180526T160000Z
DTEND:20180612T160000Z
SUMMARY:Isle of Man
END:VEVENT
END:VCALENDAR
