BEGIN:VCALENDAR
VERSION:2.0
PRODID:-//Squarespace Inc/Squarespace 6//v6//EN
BEGIN:VEVENT
UID:593270931b10e34b59a593ed@squarespace.com
DTSTAMP:20170812T130328Z
DTSTART:20180204T170000Z
DTEND:20180227T170000Z
SUMMARY:Burt Munro - Indian Rally - The Sound of Thunder
END:VEVENT
END:VCALENDAR
