BEGIN:VCALENDAR
VERSION:2.0
PRODID:-//Squarespace Inc/Squarespace 6//v6//EN
BEGIN:VEVENT
UID:59326f7e37c58133f115a275@squarespace.com
DTSTAMP:20170812T130528Z
DTSTART:20170707T160000Z
DTEND:20170729T160000Z
SUMMARY:North to Alaska
END:VEVENT
END:VCALENDAR
