BEGIN:VCALENDAR
VERSION:2.0
PRODID:-//Squarespace Inc/Squarespace 6//v6//EN
BEGIN:VEVENT
UID:593277903e00bef2b8235164@squarespace.com
DTSTAMP:20170812T130507Z
DTSTART:20170731T160000Z
DTEND:20170810T160000Z
SUMMARY:Route 66 Sturgis - 2017
END:VEVENT
END:VCALENDAR
