BEGIN:VCALENDAR
VERSION:2.0
PRODID:-//Squarespace Inc/Squarespace 6//v6//EN
BEGIN:VEVENT
UID:5932753de58c62b10158955e@squarespace.com
DTSTAMP:20170812T130301Z
DTSTART:20171021T160000Z
DTEND:20171130T170000Z
SUMMARY:3 Grand Prix in One Week
END:VEVENT
END:VCALENDAR
